BEGIN:VCALENDAR
VERSION:2.0
CALSCALE:GREGORIAN
PRODID:adamgibbons/ics
METHOD:PUBLISH
X-PUBLISHED-TTL:PT1H
BEGIN:VEVENT
UID:221@botep.org
SUMMARY:Voci di carta: Gisella Laterza
DTSTAMP:20260423T163442Z
DTSTART:20260529T153000Z
DTEND:20260529T173000Z
URL:https://botep.org/event/voci-di-carta-gisella-laterza
GEO:45.6878;9.66126
LOCATION:Lə gattarə - Ritrovo enogattonomico - Via Giosué Carducci 6\, Berg
	amo
STATUS:CONFIRMED
CATEGORIES:bergamo,comune di bergamo,donne per bergamo,femminismo,Gisella l
	aterza,lə gattarə,scrittura,yepTalks
END:VEVENT
END:VCALENDAR
